BEGIN:VCALENDAR
VERSION:2.0
PRODID:-//Ethical Humanist Society of the Triangle - ECPv6.15.20//NONSGML v1.0//EN
CALSCALE:GREGORIAN
METHOD:PUBLISH
X-WR-CALNAME:Ethical Humanist Society of the Triangle
X-ORIGINAL-URL:https://ehstnc.org
X-WR-CALDESC:Events for Ethical Humanist Society of the Triangle
REFRESH-INTERVAL;VALUE=DURATION:PT1H
X-Robots-Tag:noindex
X-PUBLISHED-TTL:PT1H
BEGIN:VTIMEZONE
TZID:America/New_York
BEGIN:DAYLIGHT
TZOFFSETFROM:-0500
TZOFFSETTO:-0400
TZNAME:EDT
DTSTART:20230312T070000
END:DAYLIGHT
BEGIN:STANDARD
TZOFFSETFROM:-0400
TZOFFSETTO:-0500
TZNAME:EST
DTSTART:20231105T060000
END:STANDARD
BEGIN:DAYLIGHT
TZOFFSETFROM:-0500
TZOFFSETTO:-0400
TZNAME:EDT
DTSTART:20240310T070000
END:DAYLIGHT
BEGIN:STANDARD
TZOFFSETFROM:-0400
TZOFFSETTO:-0500
TZNAME:EST
DTSTART:20241103T060000
END:STANDARD
BEGIN:DAYLIGHT
TZOFFSETFROM:-0500
TZOFFSETTO:-0400
TZNAME:EDT
DTSTART:20250309T070000
END:DAYLIGHT
BEGIN:STANDARD
TZOFFSETFROM:-0400
TZOFFSETTO:-0500
TZNAME:EST
DTSTART:20251102T060000
END:STANDARD
END:VTIMEZONE
BEGIN:VEVENT
DTSTART;TZID=America/New_York:20240714T133000
DTEND;TZID=America/New_York:20240714T153000
DTSTAMP:20260425T205905
CREATED:20240602T210442Z
LAST-MODIFIED:20240603T111733Z
UID:8012-1720963800-1720971000@ehstnc.org
SUMMARY:Freethinking\, Freeteaching\, Freewriting
DESCRIPTION:Teacher\, writer and humanist celebrant Chris Highland will discuss how and why he has written “Highland Views” columns for the Religion pages of a newspaper for 8 years under subjects of freethinking\, freeteaching\, and freewriting.  Sharing snippets of columns as well as stories of interactions with readers—including evangelicals and atheists—reveals the impact of his writing and teaching across the landscape of beliefs. \n\nSince 2016\, Chris Highland has written a weekly “Highland Views” column for the Asheville Citizen-Times (in the USA Today network).  As a former Presbyterian minister\, interfaith chaplain\, shelter director and senior housing manager\, he draws from a deep well of experience in human service and progressive ministry. \nTransitioning from a Christian and interfaith background to embrace a secular humanist worldview\, he presents an inclusive perspective that is not anti-religious but affirming of a world where people of faith and non-theists can potentially find common ground. \n\n\nHis first book\, Meditations of John Muir (2001)\, has led to a series of books including A Freethinker’s Gospel\, Intersections\, Eye to Eye\, Beyond the Boundaries of Belief and other collections of essays.  Chris teaches courses on Freethought\, Humanism and Christian Nationalism at the Reuter Center on the campus of UNCA.  Chris and his wife\, Rev. Carol Hovis\, a teacher and counselor\, moved to Asheville from the SF Bay Area in 2016.His website is “Friendly Freethinker” (www.chighland.com). \n\n\nThis program will be presented via a Zoom session. You do not need a Zoom account to “attend” this virtual meeting.  If you would like to be a participant in the meeting\, please use our contact us form to make your request. (Check your tabs to see the form.)
URL:https://ehstnc.org/event/freethinking-freeteaching-freewriting/
LOCATION:Virtual Program using Zoom
END:VEVENT
END:VCALENDAR