BEGIN:VCALENDAR
VERSION:2.0
PRODID:-//Ethical Humanist Society of the Triangle - ECPv6.15.20//NONSGML v1.0//EN
CALSCALE:GREGORIAN
METHOD:PUBLISH
X-WR-CALNAME:Ethical Humanist Society of the Triangle
X-ORIGINAL-URL:https://ehstnc.org
X-WR-CALDESC:Events for Ethical Humanist Society of the Triangle
REFRESH-INTERVAL;VALUE=DURATION:PT1H
X-Robots-Tag:noindex
X-PUBLISHED-TTL:PT1H
BEGIN:VTIMEZONE
TZID:America/New_York
BEGIN:DAYLIGHT
TZOFFSETFROM:-0500
TZOFFSETTO:-0400
TZNAME:EDT
DTSTART:20230312T070000
END:DAYLIGHT
BEGIN:STANDARD
TZOFFSETFROM:-0400
TZOFFSETTO:-0500
TZNAME:EST
DTSTART:20231105T060000
END:STANDARD
BEGIN:DAYLIGHT
TZOFFSETFROM:-0500
TZOFFSETTO:-0400
TZNAME:EDT
DTSTART:20240310T070000
END:DAYLIGHT
BEGIN:STANDARD
TZOFFSETFROM:-0400
TZOFFSETTO:-0500
TZNAME:EST
DTSTART:20241103T060000
END:STANDARD
BEGIN:DAYLIGHT
TZOFFSETFROM:-0500
TZOFFSETTO:-0400
TZNAME:EDT
DTSTART:20250309T070000
END:DAYLIGHT
BEGIN:STANDARD
TZOFFSETFROM:-0400
TZOFFSETTO:-0500
TZNAME:EST
DTSTART:20251102T060000
END:STANDARD
END:VTIMEZONE
BEGIN:VEVENT
DTSTART;TZID=America/New_York:20241208T133000
DTEND;TZID=America/New_York:20241208T153000
DTSTAMP:20260425T131815
CREATED:20241203T130107Z
LAST-MODIFIED:20241203T130107Z
UID:8162-1733664600-1733671800@ehstnc.org
SUMMARY:Fighting Christian Nationalism in Minnesota
DESCRIPTION:As marketing co-chairs of HumanistMN\, Suzanne Perry and Ellie Haylund worked together last year to put up a billboard near the Minnesota state capitol that read\, “Reject Christian Nationalism: Keep Religion Out of Government.” The billboard drew widespread media attention and raised people’s awareness of their organization. This effort was instrumental in expanding knowledge of humanist values in the community and significantly increased their membership. \nSuzanne Perry is a Board member and co-chair of the marketing committee for HumanistsMN. An ardent advocate for separation of religion and government\, she has coordinated an annual event at the Minnesota State Capitol to commemorate the National Day of Reason and worked with legislators to set up the Secular Government Caucus. She is now helping to plan a Forum on Religious Freedom in January in Minneapolis.\n\nEllie Haylund is an enthusiastic humanist and has been involved with her local chapter\, HumanistsMN\, for almost a decade. Since 2016\, she has served on HumanistsMN’s board of directors\, is their current president\, and co-chairs the marketing committee. She is passionate about bringing widespread visibility to humanism\, cultivating the next generation of humanists\, and advocating for the separation of religion and government.\n\n\nThis program will be presented via a Zoom session. You do not need a Zoom account to “attend” this virtual meeting.  If you would like to be a participant in the meeting\, please use our contact us form (https://ehstnc.org/contact-us/) to make your request.
URL:https://ehstnc.org/event/fighting-christian-nationalism-in-minnesota/
LOCATION:Virtual Program using Zoom
END:VEVENT
END:VCALENDAR