BEGIN:VCALENDAR
VERSION:2.0
PRODID:-//Ethical Humanist Society of the Triangle - ECPv6.15.20//NONSGML v1.0//EN
CALSCALE:GREGORIAN
METHOD:PUBLISH
X-WR-CALNAME:Ethical Humanist Society of the Triangle
X-ORIGINAL-URL:https://ehstnc.org
X-WR-CALDESC:Events for Ethical Humanist Society of the Triangle
REFRESH-INTERVAL;VALUE=DURATION:PT1H
X-Robots-Tag:noindex
X-PUBLISHED-TTL:PT1H
BEGIN:VTIMEZONE
TZID:America/New_York
BEGIN:DAYLIGHT
TZOFFSETFROM:-0500
TZOFFSETTO:-0400
TZNAME:EDT
DTSTART:20240310T070000
END:DAYLIGHT
BEGIN:STANDARD
TZOFFSETFROM:-0400
TZOFFSETTO:-0500
TZNAME:EST
DTSTART:20241103T060000
END:STANDARD
BEGIN:DAYLIGHT
TZOFFSETFROM:-0500
TZOFFSETTO:-0400
TZNAME:EDT
DTSTART:20250309T070000
END:DAYLIGHT
BEGIN:STANDARD
TZOFFSETFROM:-0400
TZOFFSETTO:-0500
TZNAME:EST
DTSTART:20251102T060000
END:STANDARD
BEGIN:DAYLIGHT
TZOFFSETFROM:-0500
TZOFFSETTO:-0400
TZNAME:EDT
DTSTART:20260308T070000
END:DAYLIGHT
BEGIN:STANDARD
TZOFFSETFROM:-0400
TZOFFSETTO:-0500
TZNAME:EST
DTSTART:20261101T060000
END:STANDARD
END:VTIMEZONE
BEGIN:VEVENT
DTSTART;TZID=America/New_York:20250309T140000
DTEND;TZID=America/New_York:20250309T160000
DTSTAMP:20260425T090938
CREATED:20250305T120454Z
LAST-MODIFIED:20250305T120658Z
UID:8213-1741528800-1741536000@ehstnc.org
SUMMARY:How the Elite rigged Society (and why it’s falling apart)
DESCRIPTION:David Brooks\, a prominent conservative writer (and former Republican)\, spoke at the Alliance for Responsible Citizenship Conference about how the “elite” rigged society and why things are now falling apart.  Join us as we view the short talk on Youtube (about 15 minutes) and discuss the key points and our reactions. \n  \nThis program will be presented via a Zoom session. You do not need a Zoom account to “attend” this virtual meeting.  If you would like to be a participant in the meeting\, please use our contact us form (https://ehstnc.org/contact-us/) to make your request.
URL:https://ehstnc.org/event/how-the-elite-rigged-society-and-why-its-falling-apart/
LOCATION:Virtual Program using Zoom
END:VEVENT
END:VCALENDAR