BEGIN:VCALENDAR
VERSION:2.0
PRODID:-//Ethical Humanist Society of the Triangle - ECPv6.15.20//NONSGML v1.0//EN
CALSCALE:GREGORIAN
METHOD:PUBLISH
X-WR-CALNAME:Ethical Humanist Society of the Triangle
X-ORIGINAL-URL:https://ehstnc.org
X-WR-CALDESC:Events for Ethical Humanist Society of the Triangle
REFRESH-INTERVAL;VALUE=DURATION:PT1H
X-Robots-Tag:noindex
X-PUBLISHED-TTL:PT1H
BEGIN:VTIMEZONE
TZID:America/New_York
BEGIN:DAYLIGHT
TZOFFSETFROM:-0500
TZOFFSETTO:-0400
TZNAME:EDT
DTSTART:20240310T070000
END:DAYLIGHT
BEGIN:STANDARD
TZOFFSETFROM:-0400
TZOFFSETTO:-0500
TZNAME:EST
DTSTART:20241103T060000
END:STANDARD
BEGIN:DAYLIGHT
TZOFFSETFROM:-0500
TZOFFSETTO:-0400
TZNAME:EDT
DTSTART:20250309T070000
END:DAYLIGHT
BEGIN:STANDARD
TZOFFSETFROM:-0400
TZOFFSETTO:-0500
TZNAME:EST
DTSTART:20251102T060000
END:STANDARD
BEGIN:DAYLIGHT
TZOFFSETFROM:-0500
TZOFFSETTO:-0400
TZNAME:EDT
DTSTART:20260308T070000
END:DAYLIGHT
BEGIN:STANDARD
TZOFFSETFROM:-0400
TZOFFSETTO:-0500
TZNAME:EST
DTSTART:20261101T060000
END:STANDARD
END:VTIMEZONE
BEGIN:VEVENT
DTSTART;TZID=America/New_York:20250330T110000
DTEND;TZID=America/New_York:20250330T123000
DTSTAMP:20260425T090940
CREATED:20250324T120659Z
LAST-MODIFIED:20250324T120659Z
UID:8225-1743332400-1743337800@ehstnc.org
SUMMARY:The Brick Wall Brain: Why Facts (Usually) Don’t Change Minds
DESCRIPTION:Our national organization\, the American Ethical Union\, will present a program at 11 a.m. Eastern featuring Seth Andrews.  He will share his thoughts on why facts don’t normally change minds.  Seth Andrews is a former evangelical and Christian broadcaster who now hosts The Thinking Atheist one of the most popular podcasts and online atheist communities in the world. The Thinking Atheist is not a person. It is an icon encouraging all to reject faith and pursue reason and evidence.  Joseph Farkas\, Ethical Culture Leader-in-Training\, will moderate the platform\, which will be followed by a breakout session for Zoom participants. \nThere is no cost to attend\, but all participants must register using this link: https://us02web.zoom.us/meeting/register/VtpB3QYnRBqk8xbP9XhfTA#/registration. \nEHST will not meet today due to this program.  Our next meeting will be April 6.
URL:https://ehstnc.org/event/the-brick-wall-brain-why-facts-usually-dont-change-minds/
LOCATION:Virtual Program using Zoom
END:VEVENT
END:VCALENDAR