BEGIN:VCALENDAR
VERSION:2.0
PRODID:-//Ethical Humanist Society of the Triangle - ECPv6.15.20//NONSGML v1.0//EN
CALSCALE:GREGORIAN
METHOD:PUBLISH
X-ORIGINAL-URL:https://ehstnc.org
X-WR-CALDESC:Events for Ethical Humanist Society of the Triangle
REFRESH-INTERVAL;VALUE=DURATION:PT1H
X-Robots-Tag:noindex
X-PUBLISHED-TTL:PT1H
BEGIN:VTIMEZONE
TZID:America/New_York
BEGIN:DAYLIGHT
TZOFFSETFROM:-0500
TZOFFSETTO:-0400
TZNAME:EDT
DTSTART:20240310T070000
END:DAYLIGHT
BEGIN:STANDARD
TZOFFSETFROM:-0400
TZOFFSETTO:-0500
TZNAME:EST
DTSTART:20241103T060000
END:STANDARD
BEGIN:DAYLIGHT
TZOFFSETFROM:-0500
TZOFFSETTO:-0400
TZNAME:EDT
DTSTART:20250309T070000
END:DAYLIGHT
BEGIN:STANDARD
TZOFFSETFROM:-0400
TZOFFSETTO:-0500
TZNAME:EST
DTSTART:20251102T060000
END:STANDARD
BEGIN:DAYLIGHT
TZOFFSETFROM:-0500
TZOFFSETTO:-0400
TZNAME:EDT
DTSTART:20260308T070000
END:DAYLIGHT
BEGIN:STANDARD
TZOFFSETFROM:-0400
TZOFFSETTO:-0500
TZNAME:EST
DTSTART:20261101T060000
END:STANDARD
END:VTIMEZONE
BEGIN:VEVENT
DTSTART;TZID=America/New_York:20250406T140000
DTEND;TZID=America/New_York:20250406T160000
DTSTAMP:20260425T075036
CREATED:20250403T103932Z
LAST-MODIFIED:20250403T103932Z
UID:8239-1743948000-1743955200@ehstnc.org
SUMMARY:Protesting: A Time-Honored Tradition
DESCRIPTION:EHST member Maura Breidt will give a short talk about protesting\, including its history\, some of its impact\, and how it has evolved over time\, especially in recent years with the advent of social media.  There will be ample time for discussion\, both to learn about what demonstrations or protests EHST members have attended in the past\, and their viewpoints on both the drivers and the efficacy of this type of social action. \nThis meeting is a Zoom “hybrid” meeting.  We will meet at our regular venue\, Extraordinary Ventures\, where the program will take place.  We will also Zoom the program.    If you wish to attend via Zoom\, please use our contact us form (https://ehstnc.org/contact-us/) to make your request.
URL:https://ehstnc.org/event/protesting-a-time-honored-tradition/
LOCATION:Extraordinary Ventures\, 200 S. Elliott Rd\, Chapel Hill\, NC\, 27514\, United States
END:VEVENT
END:VCALENDAR