BEGIN:VCALENDAR
VERSION:2.0
PRODID:-//Ethical Humanist Society of the Triangle - ECPv6.15.20//NONSGML v1.0//EN
CALSCALE:GREGORIAN
METHOD:PUBLISH
X-ORIGINAL-URL:https://ehstnc.org
X-WR-CALDESC:Events for Ethical Humanist Society of the Triangle
REFRESH-INTERVAL;VALUE=DURATION:PT1H
X-Robots-Tag:noindex
X-PUBLISHED-TTL:PT1H
BEGIN:VTIMEZONE
TZID:America/New_York
BEGIN:DAYLIGHT
TZOFFSETFROM:-0500
TZOFFSETTO:-0400
TZNAME:EDT
DTSTART:20240310T070000
END:DAYLIGHT
BEGIN:STANDARD
TZOFFSETFROM:-0400
TZOFFSETTO:-0500
TZNAME:EST
DTSTART:20241103T060000
END:STANDARD
BEGIN:DAYLIGHT
TZOFFSETFROM:-0500
TZOFFSETTO:-0400
TZNAME:EDT
DTSTART:20250309T070000
END:DAYLIGHT
BEGIN:STANDARD
TZOFFSETFROM:-0400
TZOFFSETTO:-0500
TZNAME:EST
DTSTART:20251102T060000
END:STANDARD
BEGIN:DAYLIGHT
TZOFFSETFROM:-0500
TZOFFSETTO:-0400
TZNAME:EDT
DTSTART:20260308T070000
END:DAYLIGHT
BEGIN:STANDARD
TZOFFSETFROM:-0400
TZOFFSETTO:-0500
TZNAME:EST
DTSTART:20261101T060000
END:STANDARD
END:VTIMEZONE
BEGIN:VEVENT
DTSTART;TZID=America/New_York:20250525T140000
DTEND;TZID=America/New_York:20250525T160000
DTSTAMP:20260425T062419
CREATED:20250513T211214Z
LAST-MODIFIED:20250513T211214Z
UID:8257-1748181600-1748188800@ehstnc.org
SUMMARY:Ethical Action: Rise Against Hunger - May 2025
DESCRIPTION:For the third time\, EHST is leading a coalition of secular groups in the Triangle to partner with Rise Against Hunger in their mission to end global hunger.  On May 25th these secular organizations will make donations and provide volunteers to prepare over 7000 meals! \nIn 2024\, Rise Against Hunger served nearly 54.3 million meals across 41 countries. This year\, we’re joining the effort again by packaging nutritious\, dehydrated meals that are shipped directly to communities in need. If you haven’t done this before\, you’re in for a fun time! Volunteers work in an upbeat assembly-line environment\, with energetic music and gongs sounding off for milestone moments. \n“Rise Against Hunger works in countries worldwide to fight hunger\, targeting communities facing high rates of food insecurity… We partner with local leaders to implement sustainable agriculture and income-generating projects that support long-term solutions to food security and empower communities to become self-reliant and thrive.”\n— Learn more about Rise Against Hunger \nOur event will be at Rise’s Raleigh warehouse in place of our usual Sunday meeting at 2pm.  The warehouse address is 3200 Wellington Ct #112 · Raleigh\, NC.  We need EHSTers to participate as we are the sponsor organization!  But if you can’t participate\, please consider donating to sponsor others. Sign up to volunteer or make a donation here.  \nParticipating groups include:\nEthical Humanist Society of the Triangle (EHST)\nTriangle Freethought Society (TFS)\nSunday Assembly Chapel Hill (SA)\nSecular Women of the Triangle
URL:https://ehstnc.org/event/ethical-action-rise-against-hunger-may-2025/
LOCATION:NC
END:VEVENT
END:VCALENDAR