BEGIN:VCALENDAR
VERSION:2.0
PRODID:-//Ethical Humanist Society of the Triangle - ECPv6.15.20//NONSGML v1.0//EN
CALSCALE:GREGORIAN
METHOD:PUBLISH
X-ORIGINAL-URL:https://ehstnc.org
X-WR-CALDESC:Events for Ethical Humanist Society of the Triangle
REFRESH-INTERVAL;VALUE=DURATION:PT1H
X-Robots-Tag:noindex
X-PUBLISHED-TTL:PT1H
BEGIN:VTIMEZONE
TZID:America/New_York
BEGIN:DAYLIGHT
TZOFFSETFROM:-0500
TZOFFSETTO:-0400
TZNAME:EDT
DTSTART:20240310T070000
END:DAYLIGHT
BEGIN:STANDARD
TZOFFSETFROM:-0400
TZOFFSETTO:-0500
TZNAME:EST
DTSTART:20241103T060000
END:STANDARD
BEGIN:DAYLIGHT
TZOFFSETFROM:-0500
TZOFFSETTO:-0400
TZNAME:EDT
DTSTART:20250309T070000
END:DAYLIGHT
BEGIN:STANDARD
TZOFFSETFROM:-0400
TZOFFSETTO:-0500
TZNAME:EST
DTSTART:20251102T060000
END:STANDARD
BEGIN:DAYLIGHT
TZOFFSETFROM:-0500
TZOFFSETTO:-0400
TZNAME:EDT
DTSTART:20260308T070000
END:DAYLIGHT
BEGIN:STANDARD
TZOFFSETFROM:-0400
TZOFFSETTO:-0500
TZNAME:EST
DTSTART:20261101T060000
END:STANDARD
END:VTIMEZONE
BEGIN:VEVENT
DTSTART;TZID=America/New_York:20251005T140000
DTEND;TZID=America/New_York:20251005T160000
DTSTAMP:20260425T000535
CREATED:20251001T101902Z
LAST-MODIFIED:20251001T101902Z
UID:8329-1759672800-1759680000@ehstnc.org
SUMMARY:Building Alliances to Strengthen Ourselves and Others
DESCRIPTION:This week\, Maura Breidt will give a brief presentation on the importance of seeking out and working with other like-minded groups\, as well as advocating for groups that share our values. What does this mean? What does it look like? Is it even worth the effort? We will be discussing these questions and others. Please join us for a vigorous discussion! \nThis meeting is a Zoom “hybrid” meeting.  We will meet at our regular venue\, Extraordinary Ventures\, where the program will take place.  We will also Zoom the program.    If you wish to attend via Zoom\, please use our contact us form (https://ehstnc.org/contact-us/) to make your request.
URL:https://ehstnc.org/event/building-alliances-to-strengthen-ourselves-and-others/
LOCATION:Extraordinary Ventures\, 200 S. Elliott Rd\, Chapel Hill\, NC\, 27514\, United States
END:VEVENT
END:VCALENDAR