BEGIN:VCALENDAR
VERSION:2.0
PRODID:-//Ethical Humanist Society of the Triangle - ECPv6.15.20//NONSGML v1.0//EN
CALSCALE:GREGORIAN
METHOD:PUBLISH
X-ORIGINAL-URL:https://ehstnc.org
X-WR-CALDESC:Events for Ethical Humanist Society of the Triangle
REFRESH-INTERVAL;VALUE=DURATION:PT1H
X-Robots-Tag:noindex
X-PUBLISHED-TTL:PT1H
BEGIN:VTIMEZONE
TZID:America/New_York
BEGIN:DAYLIGHT
TZOFFSETFROM:-0500
TZOFFSETTO:-0400
TZNAME:EDT
DTSTART:20240310T070000
END:DAYLIGHT
BEGIN:STANDARD
TZOFFSETFROM:-0400
TZOFFSETTO:-0500
TZNAME:EST
DTSTART:20241103T060000
END:STANDARD
BEGIN:DAYLIGHT
TZOFFSETFROM:-0500
TZOFFSETTO:-0400
TZNAME:EDT
DTSTART:20250309T070000
END:DAYLIGHT
BEGIN:STANDARD
TZOFFSETFROM:-0400
TZOFFSETTO:-0500
TZNAME:EST
DTSTART:20251102T060000
END:STANDARD
BEGIN:DAYLIGHT
TZOFFSETFROM:-0500
TZOFFSETTO:-0400
TZNAME:EDT
DTSTART:20260308T070000
END:DAYLIGHT
BEGIN:STANDARD
TZOFFSETFROM:-0400
TZOFFSETTO:-0500
TZNAME:EST
DTSTART:20261101T060000
END:STANDARD
END:VTIMEZONE
BEGIN:VEVENT
DTSTART;TZID=America/New_York:20251019T140000
DTEND;TZID=America/New_York:20251019T160000
DTSTAMP:20260425T000535
CREATED:20251013T140312Z
LAST-MODIFIED:20251013T140312Z
UID:8349-1760882400-1760889600@ehstnc.org
SUMMARY:Fall Members Meeting
DESCRIPTION:We will hold our annual fall members meeting on October 19th. We encourage all EHST members to attend in person or online if possible. And we always welcome friends and visitors.  We have several important items on the agenda\, including a report on meeting attendance\, the idea of joint meetings with other “like minded” societies\, what members like or dislike about our weekly meetings\, and a call for candidates for officers for next year. We hope to see you all there!\n\n\nThis meeting is a Zoom “hybrid” meeting.  We will meet at our regular venue\, Extraordinary Ventures\, where the program will take place.  We will also Zoom the program.    If you wish to attend via Zoom\, please use our contact us form (https://ehstnc.org/contact-us/) to make your request.
URL:https://ehstnc.org/event/fall-members-meeting/
LOCATION:Extraordinary Ventures\, 200 S. Elliott Rd\, Chapel Hill\, NC\, 27514\, United States
END:VEVENT
END:VCALENDAR