BEGIN:VCALENDAR
VERSION:2.0
PRODID:-//Ethical Humanist Society of the Triangle - ECPv6.15.20//NONSGML v1.0//EN
CALSCALE:GREGORIAN
METHOD:PUBLISH
X-ORIGINAL-URL:https://ehstnc.org
X-WR-CALDESC:Events for Ethical Humanist Society of the Triangle
REFRESH-INTERVAL;VALUE=DURATION:PT1H
X-Robots-Tag:noindex
X-PUBLISHED-TTL:PT1H
BEGIN:VTIMEZONE
TZID:America/New_York
BEGIN:DAYLIGHT
TZOFFSETFROM:-0500
TZOFFSETTO:-0400
TZNAME:EDT
DTSTART:20240310T070000
END:DAYLIGHT
BEGIN:STANDARD
TZOFFSETFROM:-0400
TZOFFSETTO:-0500
TZNAME:EST
DTSTART:20241103T060000
END:STANDARD
BEGIN:DAYLIGHT
TZOFFSETFROM:-0500
TZOFFSETTO:-0400
TZNAME:EDT
DTSTART:20250309T070000
END:DAYLIGHT
BEGIN:STANDARD
TZOFFSETFROM:-0400
TZOFFSETTO:-0500
TZNAME:EST
DTSTART:20251102T060000
END:STANDARD
BEGIN:DAYLIGHT
TZOFFSETFROM:-0500
TZOFFSETTO:-0400
TZNAME:EDT
DTSTART:20260308T070000
END:DAYLIGHT
BEGIN:STANDARD
TZOFFSETFROM:-0400
TZOFFSETTO:-0500
TZNAME:EST
DTSTART:20261101T060000
END:STANDARD
END:VTIMEZONE
BEGIN:VEVENT
DTSTART;TZID=America/New_York:20251221T140000
DTEND;TZID=America/New_York:20251221T160000
DTSTAMP:20260424T212535
CREATED:20251209T121150Z
LAST-MODIFIED:20251209T121150Z
UID:8394-1766325600-1766332800@ehstnc.org
SUMMARY:Secular Potluck and Winter Solstice Party
DESCRIPTION:It’s a party! Please bring a dish to share at our Secular Winter Solstice end-of-year gathering! (Coffee\, tea\, and dishes/flatware/napkins are provided.) \nHere’s the link to RSVP.  Please do so if you plan to come\, or think you might. \nhttps://www.signupgenius.com/go/10C0949A8AE2FA1F4C70-60803308-winter \nThis event is in person only; there will be no Zoom access. \nThis is our last event of 2025\, so please plan to come and enjoy this time of year with your fellow humanists\, deists\, atheists\, and similarly oriented nontheists!
URL:https://ehstnc.org/event/secular-potluck-and-winter-solstice-party/
LOCATION:Extraordinary Ventures\, 200 S. Elliott Rd\, Chapel Hill\, NC\, 27514\, United States
END:VEVENT
END:VCALENDAR