BEGIN:VCALENDAR
VERSION:2.0
PRODID:-//Ethical Humanist Society of the Triangle - ECPv6.15.20//NONSGML v1.0//EN
CALSCALE:GREGORIAN
METHOD:PUBLISH
X-ORIGINAL-URL:https://ehstnc.org
X-WR-CALDESC:Events for Ethical Humanist Society of the Triangle
REFRESH-INTERVAL;VALUE=DURATION:PT1H
X-Robots-Tag:noindex
X-PUBLISHED-TTL:PT1H
BEGIN:VTIMEZONE
TZID:America/New_York
BEGIN:DAYLIGHT
TZOFFSETFROM:-0500
TZOFFSETTO:-0400
TZNAME:EDT
DTSTART:20250309T070000
END:DAYLIGHT
BEGIN:STANDARD
TZOFFSETFROM:-0400
TZOFFSETTO:-0500
TZNAME:EST
DTSTART:20251102T060000
END:STANDARD
BEGIN:DAYLIGHT
TZOFFSETFROM:-0500
TZOFFSETTO:-0400
TZNAME:EDT
DTSTART:20260308T070000
END:DAYLIGHT
BEGIN:STANDARD
TZOFFSETFROM:-0400
TZOFFSETTO:-0500
TZNAME:EST
DTSTART:20261101T060000
END:STANDARD
BEGIN:DAYLIGHT
TZOFFSETFROM:-0500
TZOFFSETTO:-0400
TZNAME:EDT
DTSTART:20270314T070000
END:DAYLIGHT
BEGIN:STANDARD
TZOFFSETFROM:-0400
TZOFFSETTO:-0500
TZNAME:EST
DTSTART:20271107T060000
END:STANDARD
END:VTIMEZONE
BEGIN:VEVENT
DTSTART;TZID=America/New_York:20260111T140000
DTEND;TZID=America/New_York:20260111T160000
DTSTAMP:20260424T200821
CREATED:20260106T120240Z
LAST-MODIFIED:20260106T120240Z
UID:8409-1768140000-1768147200@ehstnc.org
SUMMARY:Discussion of programs for 2026
DESCRIPTION:What programs would you like to see EHST provide in 2026?  We will pool our thoughts and come up with ideas (the more specific the better).   Our programming change for 2026 is to not meet at Extraordinary Ventures on the 4th Sundays (but January is one exception).  Instead\, we will either have a Zoom session or do some form of ethical action. \nThis program will be presented via a Zoom session. You do not need a Zoom account to “attend” this virtual meeting.  If you would like to be a participant in the meeting\, please use our contact us form (https://ehstnc.org/contact-us/) to make your request.
URL:https://ehstnc.org/event/discussion-of-programs-for-2026/
LOCATION:Virtual Program using Zoom
END:VEVENT
END:VCALENDAR