BEGIN:VCALENDAR
VERSION:2.0
PRODID:-//Ethical Humanist Society of the Triangle - ECPv6.15.20//NONSGML v1.0//EN
CALSCALE:GREGORIAN
METHOD:PUBLISH
X-ORIGINAL-URL:https://ehstnc.org
X-WR-CALDESC:Events for Ethical Humanist Society of the Triangle
REFRESH-INTERVAL;VALUE=DURATION:PT1H
X-Robots-Tag:noindex
X-PUBLISHED-TTL:PT1H
BEGIN:VTIMEZONE
TZID:America/New_York
BEGIN:DAYLIGHT
TZOFFSETFROM:-0500
TZOFFSETTO:-0400
TZNAME:EDT
DTSTART:20250309T070000
END:DAYLIGHT
BEGIN:STANDARD
TZOFFSETFROM:-0400
TZOFFSETTO:-0500
TZNAME:EST
DTSTART:20251102T060000
END:STANDARD
BEGIN:DAYLIGHT
TZOFFSETFROM:-0500
TZOFFSETTO:-0400
TZNAME:EDT
DTSTART:20260308T070000
END:DAYLIGHT
BEGIN:STANDARD
TZOFFSETFROM:-0400
TZOFFSETTO:-0500
TZNAME:EST
DTSTART:20261101T060000
END:STANDARD
BEGIN:DAYLIGHT
TZOFFSETFROM:-0500
TZOFFSETTO:-0400
TZNAME:EDT
DTSTART:20270314T070000
END:DAYLIGHT
BEGIN:STANDARD
TZOFFSETFROM:-0400
TZOFFSETTO:-0500
TZNAME:EST
DTSTART:20271107T060000
END:STANDARD
END:VTIMEZONE
BEGIN:VEVENT
DTSTART;TZID=America/New_York:20260315T140000
DTEND;TZID=America/New_York:20260315T160000
DTSTAMP:20260424T171310
CREATED:20260225T114201Z
LAST-MODIFIED:20260225T114201Z
UID:8442-1773583200-1773590400@ehstnc.org
SUMMARY:Community Day
DESCRIPTION:What is a community day?  It is a program in which a topic is introduced for discusssion\, followed by breakout into small groups for discussion\, and then we reconvene as a whole to review ideas\, and thoughts arising from the group discussions.   Our program will be led by Jan Broughton who has conducted these community days in the past.  The topic will be introduced soon. \nGiven the nature of this program\, there will be no Zoom option. \n 
URL:https://ehstnc.org/event/community-day-3/
LOCATION:Extraordinary Ventures\, 200 S. Elliott Rd\, Chapel Hill\, NC\, 27514\, United States
END:VEVENT
END:VCALENDAR