BEGIN:VCALENDAR
VERSION:2.0
PRODID:-//Ethical Humanist Society of the Triangle - ECPv6.15.20//NONSGML v1.0//EN
CALSCALE:GREGORIAN
METHOD:PUBLISH
X-ORIGINAL-URL:https://ehstnc.org
X-WR-CALDESC:Events for Ethical Humanist Society of the Triangle
REFRESH-INTERVAL;VALUE=DURATION:PT1H
X-Robots-Tag:noindex
X-PUBLISHED-TTL:PT1H
BEGIN:VTIMEZONE
TZID:America/New_York
BEGIN:DAYLIGHT
TZOFFSETFROM:-0500
TZOFFSETTO:-0400
TZNAME:EDT
DTSTART:20250309T070000
END:DAYLIGHT
BEGIN:STANDARD
TZOFFSETFROM:-0400
TZOFFSETTO:-0500
TZNAME:EST
DTSTART:20251102T060000
END:STANDARD
BEGIN:DAYLIGHT
TZOFFSETFROM:-0500
TZOFFSETTO:-0400
TZNAME:EDT
DTSTART:20260308T070000
END:DAYLIGHT
BEGIN:STANDARD
TZOFFSETFROM:-0400
TZOFFSETTO:-0500
TZNAME:EST
DTSTART:20261101T060000
END:STANDARD
BEGIN:DAYLIGHT
TZOFFSETFROM:-0500
TZOFFSETTO:-0400
TZNAME:EDT
DTSTART:20270314T070000
END:DAYLIGHT
BEGIN:STANDARD
TZOFFSETFROM:-0400
TZOFFSETTO:-0500
TZNAME:EST
DTSTART:20271107T060000
END:STANDARD
END:VTIMEZONE
BEGIN:VEVENT
DTSTART;TZID=America/New_York:20260405T140000
DTEND;TZID=America/New_York:20260405T160000
DTSTAMP:20260424T155516
CREATED:20260319T115716Z
LAST-MODIFIED:20260319T115716Z
UID:8453-1775397600-1775404800@ehstnc.org
SUMMARY:What is SEEDS?
DESCRIPTION:EHST will have its program in a different venue\, at the SEEDS facility in Durham.  We will hear about the history and work of SEEDS.  Founded in 1994\, SEEDS is a two-acre urban garden and kitchen classroom in the heart of Durham. SEEDS develops the capacity of young people to respect life\, the earth\, and each other through growing\, cooking\, and sharing food. \nThis meeting is a Zoom “hybrid” meeting.    If you wish to attend via Zoom\, please use our contact us form (https://ehstnc.org/contact-us/) to make your request. 
URL:https://ehstnc.org/event/what-is-seeds/
LOCATION:SEEDS\, 706 Gilbert St.\, Durham\, NC\, United States
END:VEVENT
END:VCALENDAR