BEGIN:VCALENDAR
VERSION:2.0
PRODID:-//Ethical Humanist Society of the Triangle - ECPv6.15.20//NONSGML v1.0//EN
CALSCALE:GREGORIAN
METHOD:PUBLISH
X-WR-CALNAME:Ethical Humanist Society of the Triangle
X-ORIGINAL-URL:https://ehstnc.org
X-WR-CALDESC:Events for Ethical Humanist Society of the Triangle
REFRESH-INTERVAL;VALUE=DURATION:PT1H
X-Robots-Tag:noindex
X-PUBLISHED-TTL:PT1H
BEGIN:VTIMEZONE
TZID:America/New_York
BEGIN:DAYLIGHT
TZOFFSETFROM:-0500
TZOFFSETTO:-0400
TZNAME:EDT
DTSTART:20250309T070000
END:DAYLIGHT
BEGIN:STANDARD
TZOFFSETFROM:-0400
TZOFFSETTO:-0500
TZNAME:EST
DTSTART:20251102T060000
END:STANDARD
BEGIN:DAYLIGHT
TZOFFSETFROM:-0500
TZOFFSETTO:-0400
TZNAME:EDT
DTSTART:20260308T070000
END:DAYLIGHT
BEGIN:STANDARD
TZOFFSETFROM:-0400
TZOFFSETTO:-0500
TZNAME:EST
DTSTART:20261101T060000
END:STANDARD
BEGIN:DAYLIGHT
TZOFFSETFROM:-0500
TZOFFSETTO:-0400
TZNAME:EDT
DTSTART:20270314T070000
END:DAYLIGHT
BEGIN:STANDARD
TZOFFSETFROM:-0400
TZOFFSETTO:-0500
TZNAME:EST
DTSTART:20271107T060000
END:STANDARD
END:VTIMEZONE
BEGIN:VEVENT
DTSTART;TZID=America/New_York:20260412T140000
DTEND;TZID=America/New_York:20260412T153000
DTSTAMP:20260424T160226
CREATED:20260319T115019Z
LAST-MODIFIED:20260319T115019Z
UID:8451-1776002400-1776007800@ehstnc.org
SUMMARY:Discussion - A Dark Political Reality in Florida
DESCRIPTION:We will discuss a recent article (interview) in the New York Times about Michelle Goldberg’s views of Florida’s James Fishback\, a Republican primary candidate who has “antisemitic views and his appeal to young male voters.”   (see https://www.nytimes.com/2026/03/18/opinion/fishback-florida-governor-antisemitism.html)  There is a lot to digest in this article\, so it needs careful reading.   The discussion will be moderated to ensure everyone has a chance to voice their perspective. \nThis program will be presented via a Zoom session. You do not need a Zoom account to “attend” this virtual meeting.  If you would like to be a participant in the meeting\, please use our contact us form (https://ehstnc.org/contact-us/) to make your request. 
URL:https://ehstnc.org/event/discussion-a-dark-political-reality-in-florida/
LOCATION:Virtual Program using Zoom
END:VEVENT
END:VCALENDAR