BEGIN:VCALENDAR
VERSION:2.0
PRODID:-//Ethical Humanist Society of the Triangle - ECPv6.15.20//NONSGML v1.0//EN
CALSCALE:GREGORIAN
METHOD:PUBLISH
X-WR-CALNAME:Ethical Humanist Society of the Triangle
X-ORIGINAL-URL:https://ehstnc.org
X-WR-CALDESC:Events for Ethical Humanist Society of the Triangle
REFRESH-INTERVAL;VALUE=DURATION:PT1H
X-Robots-Tag:noindex
X-PUBLISHED-TTL:PT1H
BEGIN:VTIMEZONE
TZID:America/New_York
BEGIN:DAYLIGHT
TZOFFSETFROM:-0500
TZOFFSETTO:-0400
TZNAME:EDT
DTSTART:20150308T070000
END:DAYLIGHT
BEGIN:STANDARD
TZOFFSETFROM:-0400
TZOFFSETTO:-0500
TZNAME:EST
DTSTART:20151101T060000
END:STANDARD
BEGIN:DAYLIGHT
TZOFFSETFROM:-0500
TZOFFSETTO:-0400
TZNAME:EDT
DTSTART:20160313T070000
END:DAYLIGHT
BEGIN:STANDARD
TZOFFSETFROM:-0400
TZOFFSETTO:-0500
TZNAME:EST
DTSTART:20161106T060000
END:STANDARD
BEGIN:DAYLIGHT
TZOFFSETFROM:-0500
TZOFFSETTO:-0400
TZNAME:EDT
DTSTART:20170312T070000
END:DAYLIGHT
BEGIN:STANDARD
TZOFFSETFROM:-0400
TZOFFSETTO:-0500
TZNAME:EST
DTSTART:20171105T060000
END:STANDARD
END:VTIMEZONE
BEGIN:VEVENT
DTSTART;TZID=America/New_York:20160515T093000
DTEND;TZID=America/New_York:20160515T133000
DTSTAMP:20260425T114950
CREATED:20160510T201717Z
LAST-MODIFIED:20160510T201717Z
UID:2075-1463304600-1463319000@ehstnc.org
SUMMARY:30th Anniversary
DESCRIPTION:EHST celebrates its 30th anniversary of our first meeting in 1986!   EHST members will share what motivates them to be member of our humanist community focused on ethics.  Local musician\, Tim Smith\, will regale us with songs to celebrate our common humanity and shared vision of a better world.
URL:https://ehstnc.org/event/30th-anniversary/
END:VEVENT
BEGIN:VEVENT
DTSTART;TZID=America/New_York:20160507T093000
DTEND;TZID=America/New_York:20160507T113000
DTSTAMP:20260425T114950
CREATED:20160508T211340Z
LAST-MODIFIED:20160510T201604Z
UID:2074-1462613400-1462620600@ehstnc.org
SUMMARY:Randy Best will speak on “Alder’s Sources of Existential Angst”
DESCRIPTION:EHST Leader Randy Best will speak on “Alder’s Sources of Existential Angst.”  Mr. Best will address three questions that Felix Adler\, founder of Ethical Humanism\,  and many others have asked: 1) Feeling insignificant in the vast world/cosmos: how can I matter?  2) Seeing so much violence and suffering; how can I make a difference?  3) Sometimes acting in ways inconsistent with my values: how can I live with my own hypocrisy? \nThe originally scheduled speaker Shakil Ahmed will be rescheduled for a later time.
URL:https://ehstnc.org/event/randy-best-will-speak-on-alders-sources-of-existential-angst/
END:VEVENT
BEGIN:VEVENT
DTSTART;TZID=America/New_York:20160501T093000
DTEND;TZID=America/New_York:20160501T113000
DTSTAMP:20260425T114950
CREATED:20160507T211155Z
LAST-MODIFIED:20160507T211155Z
UID:2072-1462095000-1462102200@ehstnc.org
SUMMARY:Molly Barker of the Red Boot Coalition
DESCRIPTION:Molly Barker of the Red Boot Coalition will speak to us about the coalition she founded.  The Red Boot Coalition exists to provide safe places where people can engage in honest sharing and compassionate listening.  According to the coalition’s website\, “as we practice these skills\, biases are challenged\, assumptions are questioned and the barriers that once separated us come down. We learn things we never knew – about others and about ourselves – and this changes how we lead at home\, at work and within our communities.”
URL:https://ehstnc.org/event/molly-barker-of-the-red-boot-coalition/
END:VEVENT
END:VCALENDAR