BEGIN:VCALENDAR
VERSION:2.0
PRODID:-//Ethical Humanist Society of the Triangle - ECPv6.15.20//NONSGML v1.0//EN
CALSCALE:GREGORIAN
METHOD:PUBLISH
X-WR-CALNAME:Ethical Humanist Society of the Triangle
X-ORIGINAL-URL:https://ehstnc.org
X-WR-CALDESC:Events for Ethical Humanist Society of the Triangle
REFRESH-INTERVAL;VALUE=DURATION:PT1H
X-Robots-Tag:noindex
X-PUBLISHED-TTL:PT1H
BEGIN:VTIMEZONE
TZID:America/New_York
BEGIN:DAYLIGHT
TZOFFSETFROM:-0500
TZOFFSETTO:-0400
TZNAME:EDT
DTSTART:20150308T070000
END:DAYLIGHT
BEGIN:STANDARD
TZOFFSETFROM:-0400
TZOFFSETTO:-0500
TZNAME:EST
DTSTART:20151101T060000
END:STANDARD
BEGIN:DAYLIGHT
TZOFFSETFROM:-0500
TZOFFSETTO:-0400
TZNAME:EDT
DTSTART:20160313T070000
END:DAYLIGHT
BEGIN:STANDARD
TZOFFSETFROM:-0400
TZOFFSETTO:-0500
TZNAME:EST
DTSTART:20161106T060000
END:STANDARD
BEGIN:DAYLIGHT
TZOFFSETFROM:-0500
TZOFFSETTO:-0400
TZNAME:EDT
DTSTART:20170312T070000
END:DAYLIGHT
BEGIN:STANDARD
TZOFFSETFROM:-0400
TZOFFSETTO:-0500
TZNAME:EST
DTSTART:20171105T060000
END:STANDARD
END:VTIMEZONE
BEGIN:VEVENT
DTSTART;TZID=America/New_York:20160827T213000
DTEND;TZID=America/New_York:20160828T113000
DTSTAMP:20260425T114954
CREATED:20160807T185508Z
LAST-MODIFIED:20160807T185508Z
UID:2280-1472333400-1472383800@ehstnc.org
SUMMARY:The Gospel of Doubt
DESCRIPTION:We will show the Ted Talk by Casey Gerald “The Gospel of Doubt” and then share our reactions to it. Many people have found that their faith failed them when they needed it.  For people like Casey Gerald\, they find that embracing uncertainty is the key to living a meaningful life\, rather than being a morass that drags them down to despair.
URL:https://ehstnc.org/event/the-gospel-of-doubt/
END:VEVENT
BEGIN:VEVENT
DTSTART;TZID=America/New_York:20160825T000000
DTEND;TZID=America/New_York:20160825T150000
DTSTAMP:20260425T114954
CREATED:20160822T163852Z
LAST-MODIFIED:20160822T165229Z
UID:2285-1472083200-1472137200@ehstnc.org
SUMMARY:Cooking and Serving at the Chapel Hill Community Kitchen
DESCRIPTION:We are cooking and serving at the Chapel Hill Community Kitchen on Thursday.  Cooks work from 4-6 pm\, and servers work from 6-7 pm.  If you would like to help\, please email us.  Our coordinator will be in touch.   This is a great way to help those who need a good meal! \nEHST has been cooking and serving for at least 22 years\, our longest running service program!
URL:https://ehstnc.org/event/cooking-and-serving-at-the-chapel-hill-community-kitchen/
END:VEVENT
BEGIN:VEVENT
DTSTART;TZID=America/New_York:20160824T140000
DTEND;TZID=America/New_York:20160824T160000
DTSTAMP:20260425T114954
CREATED:20160806T043420Z
LAST-MODIFIED:20160822T162423Z
UID:2277-1472047200-1472054400@ehstnc.org
SUMMARY:Humanist Happy Hour in Pittsboro
DESCRIPTION:Come join fellow humanists for drinks\, dinner\, and good conversation at our regular Humanist Happy Hour at the City Tap in Pittsboro.   We meet here the fourth Wednesday evening each month.
URL:https://ehstnc.org/event/humanist-happy-hour-in-pittsboro/
END:VEVENT
BEGIN:VEVENT
DTSTART;TZID=America/New_York:20160821T093000
DTEND;TZID=America/New_York:20160821T113000
DTSTAMP:20260425T114954
CREATED:20160723T222229Z
LAST-MODIFIED:20160723T222229Z
UID:2214-1471771800-1471779000@ehstnc.org
SUMMARY:Dog Training and Treating Mental Illness
DESCRIPTION:Puppy love is not just for children.  UNC at Chapel Hill has a shelter to pet program which helps those with severe mental illness by teaching them to train puppies for adoption as service dogs.  Benefits for patients include learning responsibility\, enhancing self-confidence\, experiencing empathy\, as well as training for a job.  Come hear about the Puppy Development Center!
URL:https://ehstnc.org/event/dog-training-and-treating-mental-illness/
END:VEVENT
BEGIN:VEVENT
DTSTART;TZID=America/New_York:20160814T093000
DTEND;TZID=America/New_York:20160814T113000
DTSTAMP:20260425T114954
CREATED:20160723T013606Z
LAST-MODIFIED:20160723T165846Z
UID:2203-1471167000-1471174200@ehstnc.org
SUMMARY:What Happened at the AEU Assembly?
DESCRIPTION:Chris Kaman\, President of EHST\, and attendee will talk about the 101st Assembly of the American Ethical Union.  Resolutions were passed expressing our concerns about racism\, wages\,  “move to amend\,” among others.   The Elliot-Black Award was also given to activists who stood up against racism and police brutality in Ferguson\, the Millennial Activists United.  We also passed a new budget\, and elected new board officers.  Chris will provide the highlights.
URL:https://ehstnc.org/event/what-happened-at-the-aeu-assembly/
END:VEVENT
BEGIN:VEVENT
DTSTART;TZID=America/New_York:20160810T140000
DTEND;TZID=America/New_York:20160810T160000
DTSTAMP:20260425T114954
CREATED:20160806T042804Z
LAST-MODIFIED:20160806T043730Z
UID:2276-1470837600-1470844800@ehstnc.org
SUMMARY:Humanist Happy Hour in Chapel Hill
DESCRIPTION:Come join fellow humanists for drinks\, dinner\, and good conversation at our regular Humanist Happy Hour at the Mellow Mushroom in Chapel Hill.   We meet here the second Wednesday evening each month. \nParking is available on Rosemary Street behind the Mellow Mushroom across from Breadmans.  The parking lot is marked as parking for Mellow Mushroom customers.
URL:https://ehstnc.org/event/humanist-happy-hour-in-chapel-hill/
END:VEVENT
BEGIN:VEVENT
DTSTART;TZID=America/New_York:20160807T093000
DTEND;TZID=America/New_York:20160807T113000
DTSTAMP:20260425T114954
CREATED:20160723T012818Z
LAST-MODIFIED:20160802T000353Z
UID:2202-1470562200-1470569400@ehstnc.org
SUMMARY:The End of Water As We Know It
DESCRIPTION:Water is becoming an endangered resource.  Some believe that we will fight future wars over water resources.  We will show a TEDx Video about this issue\, then discuss it’s assumptions\, implications\, and what we can do about it. \nThis is also our first Sunday of the month collection for the Interfaith Council Food Pantry.  Please one or several items from the list below… \n• Canned meats/tuna\n• Canned vegetables (hold off on corn and green beans for now)\n• Pasta and pasta sauce\n• Soup\n• Dried Beans\n• Canned fruit\n• Rice\n• Peanut Butter\n• Cereal\n• Grits/Oatmeal packets\n• Paper Bags with handles \n• Toothbrushes\, toothpaste and floss\n• Deodorant\n• Razors and shaving cream\n• Soap and shampoo\n• Lotion\n• Washcloths\n• Feminine products\n• Diapers
URL:https://ehstnc.org/event/end-of-water/
END:VEVENT
BEGIN:VEVENT
DTSTART;TZID=America/New_York:20160806T160000
DTEND;TZID=America/New_York:20160806T170000
DTSTAMP:20260425T114954
CREATED:20160802T000102Z
LAST-MODIFIED:20160802T000102Z
UID:2265-1470499200-1470502800@ehstnc.org
SUMMARY:Hiroshima Day Commemoration
DESCRIPTION:Eisenhower Chapter 157 Veterans for Peace invites everyone to a Candlelight Vigil to mark the 71st Anniversary of the bombing of Hiroshima. Please join us as we stand against the “modernization” of our nuclear weapons program and call for the abolition of nuclear weapons of war. Our message: “Never again!” We will distribute information to passersby as we stand with our candles in a (mostly) silent vigil. We also will offer a few brief speeches and songs. Please bring your families and friends. We’ll have a few signs for you to hold\, or you can bring your own. \nParking is tight in Chapel Hill. We recommend the public parking ramp at 100 East Rosemary St. \nNote that this is not an EHST event\, but many of us support this memorial\, and have attended in the past.
URL:https://ehstnc.org/event/hiroshima-day-commemoration/
END:VEVENT
BEGIN:VEVENT
DTSTART;TZID=America/New_York:20160731T093000
DTEND;TZID=America/New_York:20160731T113000
DTSTAMP:20260425T114954
CREATED:20160728T192053Z
LAST-MODIFIED:20160728T192209Z
UID:2222-1469957400-1469964600@ehstnc.org
SUMMARY:Going Solar and the Risks of Natural Gas
DESCRIPTION:Sally Robertson of NC WARN will speak to us on “Going Solar and the Risks of Natural Gas”.  Ms. Robinson is the NC WARN solarize coordinator.  She will speak about their programs for helping homeowners go solar as well as about their efforts to get the word out on the risks of methane leakage and Duke Energy’s huge swing toward natural gas.
URL:https://ehstnc.org/event/going-solar-and-the-risks-of-natural-gas/
END:VEVENT
BEGIN:VEVENT
DTSTART;TZID=America/New_York:20160718T093000
DTEND;TZID=America/New_York:20160718T130000
DTSTAMP:20260425T114954
CREATED:20160713T181816Z
LAST-MODIFIED:20160713T181816Z
UID:2162-1468834200-1468846800@ehstnc.org
SUMMARY:Autism Talk
DESCRIPTION:All programs are at our customary meeting place\, Extraordinary Ventures\, unless otherwise noted.  We meet from 1:30-3:30 every Sunday unless otherwise noted.  All of our meetings are free\, and open to the public.  Our programs for prior years can be viewed here.
URL:https://ehstnc.org/event/autism-talk/
END:VEVENT
BEGIN:VEVENT
DTSTART;TZID=America/New_York:20160529T093000
DTEND;TZID=America/New_York:20160529T113000
DTSTAMP:20260425T114954
CREATED:20160510T202103Z
LAST-MODIFIED:20160510T202112Z
UID:2079-1464514200-1464521400@ehstnc.org
SUMMARY:Conservation Farming and Regenerative Organic Agriculture
DESCRIPTION:Conservation Farming and Regenerative Organic Agriculture:  Opportunities to Mitigate Climate Change. Judith Lesser of Harland Creek Farm will speak to us about her work in Chatham County at Hill Creek Farm and beyond to foster sustainable farming practices.   Ms. Lessler was interviewed by the Abundance Foundation last year about her work.
URL:https://ehstnc.org/event/conservation-farming-and-regenerative-organic-agriculture/
END:VEVENT
BEGIN:VEVENT
DTSTART;TZID=America/New_York:20160522T113000
DTEND;TZID=America/New_York:20160522T130000
DTSTAMP:20260425T114954
CREATED:20160510T201900Z
LAST-MODIFIED:20160510T202003Z
UID:2077-1463916600-1463922000@ehstnc.org
SUMMARY:Book Group
DESCRIPTION:Our book group will meet at the Chapel Hill Library (meeting room C from 3:30-5:00) to discuss The Rabbi Of Worms  (pronounced “Vorms”) by local author Marie Hammond.  Ms. Hammond will join us to discuss her book.  We welcome visitors!
URL:https://ehstnc.org/event/book-group/
END:VEVENT
BEGIN:VEVENT
DTSTART;TZID=America/New_York:20160522T093000
DTEND;TZID=America/New_York:20160522T113000
DTSTAMP:20260425T114954
CREATED:20160510T201809Z
LAST-MODIFIED:20160510T201809Z
UID:2076-1463909400-1463916600@ehstnc.org
SUMMARY:Ameer Shakil Ahmed of the Islamic Association of Cary
DESCRIPTION:Ameer Shakil Ahmed of the Islamic Association of Cary will speak about the work of the center with particular emphasis in promoting a better understanding of Islam among Muslims and non-Muslims.  (This talk was originally scheduled for May 8th.) \nOur book group will meet at the Chapel Hill Library (meeting room C from 3:30-5:00) to discuss The Rabbi Of Worms  (pronounced “Vorms”) by local author Marie Hammond.  Ms. Hammond will join us to discuss her book.  We welcome visitors!
URL:https://ehstnc.org/event/ameer-shakil-ahmed-of-the-islamic-association-of-cary/
END:VEVENT
BEGIN:VEVENT
DTSTART;TZID=America/New_York:20160515T093000
DTEND;TZID=America/New_York:20160515T133000
DTSTAMP:20260425T114954
CREATED:20160510T201717Z
LAST-MODIFIED:20160510T201717Z
UID:2075-1463304600-1463319000@ehstnc.org
SUMMARY:30th Anniversary
DESCRIPTION:EHST celebrates its 30th anniversary of our first meeting in 1986!   EHST members will share what motivates them to be member of our humanist community focused on ethics.  Local musician\, Tim Smith\, will regale us with songs to celebrate our common humanity and shared vision of a better world.
URL:https://ehstnc.org/event/30th-anniversary/
END:VEVENT
BEGIN:VEVENT
DTSTART;TZID=America/New_York:20160507T093000
DTEND;TZID=America/New_York:20160507T113000
DTSTAMP:20260425T114954
CREATED:20160508T211340Z
LAST-MODIFIED:20160510T201604Z
UID:2074-1462613400-1462620600@ehstnc.org
SUMMARY:Randy Best will speak on “Alder’s Sources of Existential Angst”
DESCRIPTION:EHST Leader Randy Best will speak on “Alder’s Sources of Existential Angst.”  Mr. Best will address three questions that Felix Adler\, founder of Ethical Humanism\,  and many others have asked: 1) Feeling insignificant in the vast world/cosmos: how can I matter?  2) Seeing so much violence and suffering; how can I make a difference?  3) Sometimes acting in ways inconsistent with my values: how can I live with my own hypocrisy? \nThe originally scheduled speaker Shakil Ahmed will be rescheduled for a later time.
URL:https://ehstnc.org/event/randy-best-will-speak-on-alders-sources-of-existential-angst/
END:VEVENT
BEGIN:VEVENT
DTSTART;TZID=America/New_York:20160501T093000
DTEND;TZID=America/New_York:20160501T113000
DTSTAMP:20260425T114954
CREATED:20160507T211155Z
LAST-MODIFIED:20160507T211155Z
UID:2072-1462095000-1462102200@ehstnc.org
SUMMARY:Molly Barker of the Red Boot Coalition
DESCRIPTION:Molly Barker of the Red Boot Coalition will speak to us about the coalition she founded.  The Red Boot Coalition exists to provide safe places where people can engage in honest sharing and compassionate listening.  According to the coalition’s website\, “as we practice these skills\, biases are challenged\, assumptions are questioned and the barriers that once separated us come down. We learn things we never knew – about others and about ourselves – and this changes how we lead at home\, at work and within our communities.”
URL:https://ehstnc.org/event/molly-barker-of-the-red-boot-coalition/
END:VEVENT
END:VCALENDAR