BEGIN:VCALENDAR
VERSION:2.0
PRODID:-//Ethical Humanist Society of the Triangle - ECPv6.15.20//NONSGML v1.0//EN
CALSCALE:GREGORIAN
METHOD:PUBLISH
X-ORIGINAL-URL:https://ehstnc.org
X-WR-CALDESC:Events for Ethical Humanist Society of the Triangle
REFRESH-INTERVAL;VALUE=DURATION:PT1H
X-Robots-Tag:noindex
X-PUBLISHED-TTL:PT1H
BEGIN:VTIMEZONE
TZID:America/New_York
BEGIN:DAYLIGHT
TZOFFSETFROM:-0500
TZOFFSETTO:-0400
TZNAME:EDT
DTSTART:20230312T070000
END:DAYLIGHT
BEGIN:STANDARD
TZOFFSETFROM:-0400
TZOFFSETTO:-0500
TZNAME:EST
DTSTART:20231105T060000
END:STANDARD
BEGIN:DAYLIGHT
TZOFFSETFROM:-0500
TZOFFSETTO:-0400
TZNAME:EDT
DTSTART:20240310T070000
END:DAYLIGHT
BEGIN:STANDARD
TZOFFSETFROM:-0400
TZOFFSETTO:-0500
TZNAME:EST
DTSTART:20241103T060000
END:STANDARD
BEGIN:DAYLIGHT
TZOFFSETFROM:-0500
TZOFFSETTO:-0400
TZNAME:EDT
DTSTART:20250309T070000
END:DAYLIGHT
BEGIN:STANDARD
TZOFFSETFROM:-0400
TZOFFSETTO:-0500
TZNAME:EST
DTSTART:20251102T060000
END:STANDARD
END:VTIMEZONE
BEGIN:VEVENT
DTSTART;TZID=America/New_York:20241208T133000
DTEND;TZID=America/New_York:20241208T153000
DTSTAMP:20260425T115054
CREATED:20241203T130107Z
LAST-MODIFIED:20241203T130107Z
UID:8162-1733664600-1733671800@ehstnc.org
SUMMARY:Fighting Christian Nationalism in Minnesota
DESCRIPTION:As marketing co-chairs of HumanistMN\, Suzanne Perry and Ellie Haylund worked together last year to put up a billboard near the Minnesota state capitol that read\, “Reject Christian Nationalism: Keep Religion Out of Government.” The billboard drew widespread media attention and raised people’s awareness of their organization. This effort was instrumental in expanding knowledge of humanist values in the community and significantly increased their membership. \nSuzanne Perry is a Board member and co-chair of the marketing committee for HumanistsMN. An ardent advocate for separation of religion and government\, she has coordinated an annual event at the Minnesota State Capitol to commemorate the National Day of Reason and worked with legislators to set up the Secular Government Caucus. She is now helping to plan a Forum on Religious Freedom in January in Minneapolis.\n\nEllie Haylund is an enthusiastic humanist and has been involved with her local chapter\, HumanistsMN\, for almost a decade. Since 2016\, she has served on HumanistsMN’s board of directors\, is their current president\, and co-chairs the marketing committee. She is passionate about bringing widespread visibility to humanism\, cultivating the next generation of humanists\, and advocating for the separation of religion and government.\n\n\nThis program will be presented via a Zoom session. You do not need a Zoom account to “attend” this virtual meeting.  If you would like to be a participant in the meeting\, please use our contact us form (https://ehstnc.org/contact-us/) to make your request.
URL:https://ehstnc.org/event/fighting-christian-nationalism-in-minnesota/
LOCATION:Virtual Program using Zoom
END:VEVENT
BEGIN:VEVENT
DTSTART;TZID=America/New_York:20241215T133000
DTEND;TZID=America/New_York:20241215T153000
DTSTAMP:20260425T115054
CREATED:20241210T114449Z
LAST-MODIFIED:20241210T114449Z
UID:8164-1734269400-1734276600@ehstnc.org
SUMMARY:2024 End of Year Extravaganza!
DESCRIPTION:Please join us for our final meeting of 2024. As this is the last gathering of the year\, we will be hosting a triumvirate of programs: \n1) Ethical Action: Foster family gift wrapping: \nWe are sponsoring a local family through the Foster Care Division of the Orange County Department of Social Services. We are providing help in a variety of ways\, including some gifts that we will be wrapping. This family is also in need of help with basic necessities (some clothes\, shoes\, and even groceries) that we will provide for with gift cards so they can make their own shopping choies. If you are able to attend and would like to bring a financial donation\, that would be great. If you are not available on Sunday\, please consider donating on our website\, https://ehstnc.org/support/ . Please add a note that this donation is for the foster family sponsorship. All donations are welcome! \n2) Forecasting the Future: \nWe will have surveys available to fill out with some questions regarding 2025. They will range from world politics through sports straight on to pop culture. Once these are gathered and consolidated\, your responses will reappear at a later meeting next year. \n3) Social time with members and friends: \nThis is a great time to celebrate the holiday season and enjoy the company of others. Standard refreshments will be provided\, but if you would like to bring an extra snack to share\, please feel free to do so! \nWe will not be Zooming this program.  Nor will we meet on 12/22.  The program on 12/29 is an all AEU program.  See you next year!
URL:https://ehstnc.org/event/2024-end-of-year-extravaganza/
LOCATION:Extraordinary Ventures\, 200 S. Elliott Rd\, Chapel Hill\, NC\, 27514\, United States
END:VEVENT
BEGIN:VEVENT
DTSTART;TZID=America/New_York:20241222T133000
DTEND;TZID=America/New_York:20241222T153000
DTSTAMP:20260425T115054
CREATED:20241210T114658Z
LAST-MODIFIED:20241210T114658Z
UID:8166-1734874200-1734881400@ehstnc.org
SUMMARY:EHST Holiday - no program today
DESCRIPTION:We will not be meeting today.  We look forward to seeing you in 2025!
URL:https://ehstnc.org/event/ehst-holiday-no-program-today/
LOCATION:NC
END:VEVENT
BEGIN:VEVENT
DTSTART;TZID=America/New_York:20241229T110000
DTEND;TZID=America/New_York:20241229T123000
DTSTAMP:20260425T115054
CREATED:20241210T115108Z
LAST-MODIFIED:20241210T115127Z
UID:8168-1735470000-1735475400@ehstnc.org
SUMMARY:Gathering Light In Our Times
DESCRIPTION:EHST will join the American Ethical Union (AEU) program today at 11:00 am EST.  You may see more about this program here.  Note that registration is required.  Use this link to register: https://us02web.zoom.us/meeting/register/tZEkf-2vqzgjGdIEmPWGty7Khr_QFgiUBWq7#/registration \n  \nhttps://aeu.org/2024/11/december-29-aeu-all-societies-platform-gathering-light-in-our-times/
URL:https://ehstnc.org/event/gathering-light-in-our-times/
LOCATION:Virtual Program using Zoom
END:VEVENT
END:VCALENDAR