BEGIN:VCALENDAR
VERSION:2.0
PRODID:-//Ethical Humanist Society of the Triangle - ECPv6.15.20//NONSGML v1.0//EN
CALSCALE:GREGORIAN
METHOD:PUBLISH
X-ORIGINAL-URL:https://ehstnc.org
X-WR-CALDESC:Events for Ethical Humanist Society of the Triangle
REFRESH-INTERVAL;VALUE=DURATION:PT1H
X-Robots-Tag:noindex
X-PUBLISHED-TTL:PT1H
BEGIN:VTIMEZONE
TZID:America/New_York
BEGIN:DAYLIGHT
TZOFFSETFROM:-0500
TZOFFSETTO:-0400
TZNAME:EDT
DTSTART:20240310T070000
END:DAYLIGHT
BEGIN:STANDARD
TZOFFSETFROM:-0400
TZOFFSETTO:-0500
TZNAME:EST
DTSTART:20241103T060000
END:STANDARD
BEGIN:DAYLIGHT
TZOFFSETFROM:-0500
TZOFFSETTO:-0400
TZNAME:EDT
DTSTART:20250309T070000
END:DAYLIGHT
BEGIN:STANDARD
TZOFFSETFROM:-0400
TZOFFSETTO:-0500
TZNAME:EST
DTSTART:20251102T060000
END:STANDARD
BEGIN:DAYLIGHT
TZOFFSETFROM:-0500
TZOFFSETTO:-0400
TZNAME:EDT
DTSTART:20260308T070000
END:DAYLIGHT
BEGIN:STANDARD
TZOFFSETFROM:-0400
TZOFFSETTO:-0500
TZNAME:EST
DTSTART:20261101T060000
END:STANDARD
END:VTIMEZONE
BEGIN:VEVENT
DTSTART;TZID=America/New_York:20250105T140000
DTEND;TZID=America/New_York:20250105T160000
DTSTAMP:20260425T103510
CREATED:20250101T145431Z
LAST-MODIFIED:20250101T145431Z
UID:8177-1736085600-1736092800@ehstnc.org
SUMMARY:A Discussion of Atheism and Ethical Culture
DESCRIPTION:According to a Pew Research Center report from 2024\, roughly 28% of Americans are religiously unaffiliated\, classified as “nones”. Of these\, 83% profess to be agnostic or vaguely uncertain about religion\, with the remainder being atheists who claim god or gods do not exist. If\, however\, atheism is defined more broadly as an absence of theistic belief\, most “nones” may be considered to be atheists. In general many accuse atheists of being nihilists or lacking a foundation for moral and ethical standards. However\, it may be argued that because atheism does not adhere to the dictates of a predefined moral code\, it supports the development and evolution of an ethical culture based on critical thinking about human interactions and social justice. Fred Breidt will lead a group discussion of what atheism is and how atheism and religion can influence Ethical Culture values. \n  \nThis meeting is a Zoom “hybrid” meeting.  We will meet at our regular venue\, Extraordinary Ventures\, where the program will take place.  We will also Zoom the program.    If you wish to attend via Zoom\, please use our contact us form (https://ehstnc.org/contact-us/) to make your request.
URL:https://ehstnc.org/event/a-discussion-of-atheism-and-ethical-culture/
LOCATION:Extraordinary Ventures\, 200 S. Elliott Rd\, Chapel Hill\, NC\, 27514\, United States
END:VEVENT
BEGIN:VEVENT
DTSTART;TZID=America/New_York:20250112T140000
DTEND;TZID=America/New_York:20250112T160000
DTSTAMP:20260425T103510
CREATED:20250107T222532Z
LAST-MODIFIED:20250107T222532Z
UID:8180-1736690400-1736697600@ehstnc.org
SUMMARY:The Tipping Point  I Got Wrong
DESCRIPTION:We will watch a brief TED Talk by Malcolm Gladwell\, “The Tipping Point I Got Wrong” and follow it up discussion based on some of the points brought up in the talk. Because a central theme to this talk is the danger inherent to and unconstitutionality of stop and frisk\, we expect a lively dialogue!  Gladwell wrote a book\, published in 2000 titled “The Tipping Point“.  He has now published a book (2024) titled “Revenge of the Tipping Point”. \nThis program will be presented via a Zoom session. You do not need a Zoom account to “attend” this virtual meeting.  If you would like to be a participant in the meeting\, please use our contact us form (https://ehstnc.org/contact-us/) to make your request.
URL:https://ehstnc.org/event/the-tipping-point-i-got-wrong/
LOCATION:Virtual Program using Zoom
END:VEVENT
BEGIN:VEVENT
DTSTART;TZID=America/New_York:20250119T140000
DTEND;TZID=America/New_York:20250119T160000
DTSTAMP:20260425T103510
CREATED:20250114T111302Z
LAST-MODIFIED:20250114T111302Z
UID:8183-1737295200-1737302400@ehstnc.org
SUMMARY:Annual Business Meeting
DESCRIPTION:All members and friends are strongly encouraged to attend our annual business meeting.  This is an important opportunity to discuss priorities for EHST in the coming year. The 2025 budget will be presented\, with time for Q&A and potential modifications\, before a vote on accepting the budget. We also will be electing Board trustees and officers. \n  \nThis meeting is a Zoom “hybrid” meeting.  We will meet at our regular venue\, Extraordinary Ventures\, where the program will take place.  We will also Zoom the program.    If you wish to attend via Zoom\, please use our contact us form (https://ehstnc.org/contact-us/) to make your request.
URL:https://ehstnc.org/event/annual-business-meeting/
LOCATION:Extraordinary Ventures\, 200 S. Elliott Rd\, Chapel Hill\, NC\, 27514\, United States
END:VEVENT
BEGIN:VEVENT
DTSTART;TZID=America/New_York:20250126T140000
DTEND;TZID=America/New_York:20250126T160000
DTSTAMP:20260425T103510
CREATED:20250120T130209Z
LAST-MODIFIED:20250121T135401Z
UID:8185-1737900000-1737907200@ehstnc.org
SUMMARY:Embracing AI in the 4th Industrial Revolution
DESCRIPTION:This talk explores the transformative impact of artificial intelligence (AI) as the driving force behind the 4th Industrial Revolution. It delves into how AI is reshaping industries\, from automation and predictive analytics to personalized experiences and sustainable practices. The presentation will highlight the opportunities AI creates for innovation\, economic growth\, and societal advancement\, while also addressing the challenges of ethical AI development\, workforce transitions\, and equitable access to technology. Attendees will leave with insights into how to navigate and thrive in an AI-powered future. \nTodd Bishop has spent 36 years as an IT professional\, from programming to senior technical lead\, with the last 15 years at GlaxoSmithKline.  He has an undergraduate degree from Duke University\, a masters of education from UNC\, and an MBA from Duke.  Although he has never worked in artificial intelligence specifically\, as an IT professional he understands computer systems and how AI is evolving\, and is excited about the changes that are taking place. \nThis meeting is a Zoom “hybrid” meeting.  We will meet at our regular venue\, Extraordinary Ventures\, where the program will take place.  We will also Zoom the program.    If you wish to attend via Zoom\, please use our contact us form (https://ehstnc.org/contact-us/) to make your request.
URL:https://ehstnc.org/event/embracing-ai-in-the-4th-industrial-revolution/
LOCATION:Extraordinary Ventures\, 200 S. Elliott Rd\, Chapel Hill\, NC\, 27514\, United States
END:VEVENT
END:VCALENDAR