BEGIN:VCALENDAR
VERSION:2.0
PRODID:-//Ethical Humanist Society of the Triangle - ECPv6.15.20//NONSGML v1.0//EN
CALSCALE:GREGORIAN
METHOD:PUBLISH
X-ORIGINAL-URL:https://ehstnc.org
X-WR-CALDESC:Events for Ethical Humanist Society of the Triangle
REFRESH-INTERVAL;VALUE=DURATION:PT1H
X-Robots-Tag:noindex
X-PUBLISHED-TTL:PT1H
BEGIN:VTIMEZONE
TZID:America/New_York
BEGIN:DAYLIGHT
TZOFFSETFROM:-0500
TZOFFSETTO:-0400
TZNAME:EDT
DTSTART:20240310T070000
END:DAYLIGHT
BEGIN:STANDARD
TZOFFSETFROM:-0400
TZOFFSETTO:-0500
TZNAME:EST
DTSTART:20241103T060000
END:STANDARD
BEGIN:DAYLIGHT
TZOFFSETFROM:-0500
TZOFFSETTO:-0400
TZNAME:EDT
DTSTART:20250309T070000
END:DAYLIGHT
BEGIN:STANDARD
TZOFFSETFROM:-0400
TZOFFSETTO:-0500
TZNAME:EST
DTSTART:20251102T060000
END:STANDARD
BEGIN:DAYLIGHT
TZOFFSETFROM:-0500
TZOFFSETTO:-0400
TZNAME:EDT
DTSTART:20260308T070000
END:DAYLIGHT
BEGIN:STANDARD
TZOFFSETFROM:-0400
TZOFFSETTO:-0500
TZNAME:EST
DTSTART:20261101T060000
END:STANDARD
END:VTIMEZONE
BEGIN:VEVENT
DTSTART;TZID=America/New_York:20250907T140000
DTEND;TZID=America/New_York:20250907T160000
DTSTAMP:20260425T000617
CREATED:20250903T223950Z
LAST-MODIFIED:20250903T223950Z
UID:8318-1757253600-1757260800@ehstnc.org
SUMMARY:A Humanist Approach to Mindfulness and Presence
DESCRIPTION:Join us for a thoughtful talk on how meditation can enrich our humanist journey. We’ll explore mindfulness and presence in a down-to-earth way and see how these practices fit beautifully into an ethical\, connected life. Everyone’s welcome! \nThis meeting is a Zoom “hybrid” meeting.  We will meet at our regular venue\, Extraordinary Ventures\, where the program will take place.  We will also Zoom the program.    If you wish to attend via Zoom\, please use our contact us form (https://ehstnc.org/contact-us/) to make your request.
URL:https://ehstnc.org/event/a-humanist-approach-to-mindfulness-and-presence/
LOCATION:Extraordinary Ventures\, 200 S. Elliott Rd\, Chapel Hill\, NC\, 27514\, United States
END:VEVENT
BEGIN:VEVENT
DTSTART;TZID=America/New_York:20250914T140000
DTEND;TZID=America/New_York:20250914T160000
DTSTAMP:20260425T000617
CREATED:20250910T131132Z
LAST-MODIFIED:20250910T131132Z
UID:8320-1757858400-1757865600@ehstnc.org
SUMMARY:Gun Violence: An Analysis of the Available Data
DESCRIPTION:Gun-related injury and death is a dangerous and persistent problem in the United States and has many facets. Fred Breidt will address gun violence\, with particular attention to the available data that he has been analyzing. He will discuss the implications for the circumstances we find ourselves in now\, how we got here\, and how we could change and improve our situation. There will be ample time for discussion on this very important topic. \nThis program will be presented via a Zoom session. You do not need a Zoom account to “attend” this virtual meeting.  If you would like to be a participant in the meeting\, please use our contact us form (https://ehstnc.org/contact-us/) to make your request.
URL:https://ehstnc.org/event/gun-violence-an-analysis-of-the-available-data/
LOCATION:Virtual Program using Zoom
END:VEVENT
BEGIN:VEVENT
DTSTART;TZID=America/New_York:20250921T140000
DTEND;TZID=America/New_York:20250921T160000
DTSTAMP:20260425T000617
CREATED:20250918T104427Z
LAST-MODIFIED:20250918T104427Z
UID:8324-1758463200-1758470400@ehstnc.org
SUMMARY:Aging Services
DESCRIPTION:Kendall McMillan\, Orange County Dept of Aging: An overview of services offered to seniors by Orange County. \n  \nThis meeting is a Zoom “hybrid” meeting.  We will meet at our regular venue\, Extraordinary Ventures\, where the program will take place.  We will also Zoom the program.    If you wish to attend via Zoom\, please use our contact us form (https://ehstnc.org/contact-us/) to make your request.
URL:https://ehstnc.org/event/aging-services/
LOCATION:Extraordinary Ventures\, 200 S. Elliott Rd\, Chapel Hill\, NC\, 27514\, United States
END:VEVENT
BEGIN:VEVENT
DTSTART;TZID=America/New_York:20250929T140000
DTEND;TZID=America/New_York:20250929T160000
DTSTAMP:20260425T000617
CREATED:20250923T212156Z
LAST-MODIFIED:20250923T212156Z
UID:8326-1759154400-1759161600@ehstnc.org
SUMMARY:LGBTQ+ Issues 101
DESCRIPTION:Eliazar Posada of EqualityNC will tell us what we need to know about the current state of LGBTQ+ rights\, both nationally and in NC.  EqualityNC is the nation’s oldest statewide organization committed to securing rights and protections for the LGBTQ+ community. It aims to ensure that every North Carolinian sees themselves reflected in this movement\, working together to create a safer\, more equitable world for all marginalized individuals. \nThis meeting is a Zoom “hybrid” meeting.  We will meet at our regular venue\, Extraordinary Ventures\, where the program will take place.  We will also Zoom the program.    If you wish to attend via Zoom\, please use our contact us form (https://ehstnc.org/contact-us/) to make your request.
URL:https://ehstnc.org/event/lgbtq-issues-101/
LOCATION:Extraordinary Ventures\, 200 S. Elliott Rd\, Chapel Hill\, NC\, 27514\, United States
END:VEVENT
END:VCALENDAR