BEGIN:VCALENDAR
VERSION:2.0
PRODID:-//Ethical Humanist Society of the Triangle - ECPv6.15.20//NONSGML v1.0//EN
CALSCALE:GREGORIAN
METHOD:PUBLISH
X-ORIGINAL-URL:https://ehstnc.org
X-WR-CALDESC:Events for Ethical Humanist Society of the Triangle
REFRESH-INTERVAL;VALUE=DURATION:PT1H
X-Robots-Tag:noindex
X-PUBLISHED-TTL:PT1H
BEGIN:VTIMEZONE
TZID:America/New_York
BEGIN:DAYLIGHT
TZOFFSETFROM:-0500
TZOFFSETTO:-0400
TZNAME:EDT
DTSTART:20250309T070000
END:DAYLIGHT
BEGIN:STANDARD
TZOFFSETFROM:-0400
TZOFFSETTO:-0500
TZNAME:EST
DTSTART:20251102T060000
END:STANDARD
BEGIN:DAYLIGHT
TZOFFSETFROM:-0500
TZOFFSETTO:-0400
TZNAME:EDT
DTSTART:20260308T070000
END:DAYLIGHT
BEGIN:STANDARD
TZOFFSETFROM:-0400
TZOFFSETTO:-0500
TZNAME:EST
DTSTART:20261101T060000
END:STANDARD
BEGIN:DAYLIGHT
TZOFFSETFROM:-0500
TZOFFSETTO:-0400
TZNAME:EDT
DTSTART:20270314T070000
END:DAYLIGHT
BEGIN:STANDARD
TZOFFSETFROM:-0400
TZOFFSETTO:-0500
TZNAME:EST
DTSTART:20271107T060000
END:STANDARD
END:VTIMEZONE
BEGIN:VEVENT
DTSTART;VALUE=DATE:20260201
DTEND;VALUE=DATE:20260202
DTSTAMP:20260424T172413
CREATED:20260131T110613Z
LAST-MODIFIED:20260131T110613Z
UID:8428-1769904000-1769990399@ehstnc.org
SUMMARY:Program for February 1st - Cancelled
DESCRIPTION:Due to the predictions for snowfall and accumulations making travel dangerous on February 1st\, we have rescheduled this program for February 15th.  So there will be NO in person meeting\, and NO Zoom meeting on February 1st. \n 
URL:https://ehstnc.org/event/program-for-february-1st-cancelled/
LOCATION:NC
END:VEVENT
BEGIN:VEVENT
DTSTART;TZID=America/New_York:20260208T140000
DTEND;TZID=America/New_York:20260208T160000
DTSTAMP:20260424T172413
CREATED:20260130T122245Z
LAST-MODIFIED:20260130T122619Z
UID:8424-1770559200-1770566400@ehstnc.org
SUMMARY:Ted Talk - The Mission to Safeguard Black History in the US
DESCRIPTION:We will play a Ted Talk by Julieanna Richardson who founded TheHistoryMakers.  The organization is a digital repository for the black experience.  Here is an excerpt from its website:  “The HistoryMakers is a national 501 (c ) (3) non-profit research and educational institution committed to preserving and making widely accessible the untold personal stories of both well-known and unsung African Americans. Through the media and a series of user-friendly products\, services and events\, The HistoryMakers enlightens\, entertains and educates the public\, helping to refashion a more inclusive record of American history.”  The talk will be followed by a discussion of Ms. Richardson’s talk. \nThis program will be presented via a Zoom session. You do not need a Zoom account to “attend” this virtual meeting.  If you would like to be a participant in the meeting\, please use our contact us form (https://ehstnc.org/contact-us/) to make your request.
URL:https://ehstnc.org/event/ted-talk-the-mission-to-safeguard-black-history-in-the-us/
LOCATION:Virtual Program using Zoom
END:VEVENT
BEGIN:VEVENT
DTSTART;TZID=America/New_York:20260215T140000
DTEND;TZID=America/New_York:20260215T160000
DTSTAMP:20260424T172413
CREATED:20260116T125152Z
LAST-MODIFIED:20260201T001121Z
UID:8416-1771164000-1771171200@ehstnc.org
SUMMARY:This Is Not America\, or Is It?
DESCRIPTION:Recent events in the U.S. are startling to many Americans\, events such as the killing of Renee Good by ICE agents\, and the creation of camps in and out of the U.S. for immigrants rounded up by ICE. Some say this is not America! But\, is it? Are those that say that correct?  What does our history show about what is America and what is not?  EHST member and frequent guest speaker\, Solomon Gibson III\, will present us with his answer to this question. \nThis meeting is a Zoom “hybrid” meeting.  We will meet at our regular venue\, Extraordinary Ventures\, where the program will take place.  We will also Zoom the program.    If you wish to attend via Zoom\, please use our contact us form (https://ehstnc.org/contact-us/) to make your request.
URL:https://ehstnc.org/event/this-is-not-america-or-is-it/
LOCATION:Extraordinary Ventures\, 200 S. Elliott Rd\, Chapel Hill\, NC\, 27514\, United States
END:VEVENT
BEGIN:VEVENT
DTSTART;TZID=America/New_York:20260222T080000
DTEND;TZID=America/New_York:20260222T170000
DTSTAMP:20260424T172413
CREATED:20260215T133032Z
LAST-MODIFIED:20260215T133103Z
UID:8436-1771747200-1771779600@ehstnc.org
SUMMARY:No Meeting
DESCRIPTION:EHST is not meeting this Sunday.  See you on March 1st.
URL:https://ehstnc.org/event/no-meeting/
LOCATION:NC
END:VEVENT
END:VCALENDAR